BEGIN:VCALENDAR
VERSION:2.0
PRODID:-//Club Campestre de Cali - ECPv4.6.4//NONSGML v1.0//EN
CALSCALE:GREGORIAN
METHOD:PUBLISH
X-WR-CALNAME:Club Campestre de Cali
X-ORIGINAL-URL:https://campestrecali.com
X-WR-CALDESC:Events for Club Campestre de Cali
BEGIN:VEVENT
DTSTART;TZID=UTC+0:19700101T000000
DTEND;TZID=UTC+0:20230419T180000
DTSTAMP:20260424T224921
CREATED:20230418T164614Z
LAST-MODIFIED:20230418T164654Z
UID:21398-0-1681927200@campestrecali.com
SUMMARY:Miércoles Musicales: Concierto en el Teatro del Bosque en Berlín "Todo Tchaikovsky"
DESCRIPTION: \n \n
URL:https://campestrecali.com/evento/miercoles-musicales-concierto-en-el-teatro-del-bosque-en-berlin-todo-tchaikovsky/
LOCATION:Calle 5 con Carrera 100\, Cali\, Colombia
CATEGORIES:Destacado solo eventos,Público,Virtual
ATTACH;FMTTYPE=image/jpeg:https://campestrecali.com/wp-content/uploads/2023/04/Miercoles-musicales-19-de-abril-cccArtboard-11.jpg
END:VEVENT
BEGIN:VEVENT
DTSTART;TZID=UTC+0:19700101T000000
DTEND;TZID=UTC+0:20250605T230000
DTSTAMP:20260424T224921
CREATED:20250527T154246Z
LAST-MODIFIED:20250527T160244Z
UID:27003-0-1749164400@campestrecali.com
SUMMARY:Super Trail Nocturno
DESCRIPTION: \n
URL:https://campestrecali.com/evento/super-trail-nocturno/
LOCATION:Calle 5 con Carrera 100\, Cali\, Colombia
CATEGORIES:Deportivo,Destacado,Privado,Público
ATTACH;FMTTYPE=image/jpeg:https://campestrecali.com/wp-content/uploads/2025/05/Trail-Nocturno-banner.jpg
END:VEVENT
BEGIN:VEVENT
DTSTART;TZID=UTC+0:20211203T140000
DTEND;TZID=UTC+0:20211205T180000
DTSTAMP:20260424T224921
CREATED:20211124T151622Z
LAST-MODIFIED:20211202T230317Z
UID:16434-1638540000-1638727200@campestrecali.com
SUMMARY:Bazar Campestre
DESCRIPTION: \n  \n\nEl ‘Bazar Campestre’ se toma nuestro Club. Del viernes 3 al domingo 5 de diciembre\, todos nuestros socios podrán disfrutar en La Terraza del Autoservicio de este gran evento. Los esperamos.\n\n
URL:https://campestrecali.com/evento/bazar-campestre/
LOCATION:Calle 5 con Carrera 100\, Cali\, Colombia
CATEGORIES:Destacado,Público
ATTACH;FMTTYPE=image/jpeg:https://campestrecali.com/wp-content/uploads/2021/11/Bazar-Campestre-banner.jpg
END:VEVENT
BEGIN:VEVENT
DTSTART;TZID=UTC+0:20211204T130000
DTEND;TZID=UTC+0:20211204T150000
DTSTAMP:20260424T224921
CREATED:20211202T195058Z
LAST-MODIFIED:20211202T203219Z
UID:16653-1638622800-1638630000@campestrecali.com
SUMMARY:Partido de Exhibición
DESCRIPTION: \n\nApreciados Socios:\n\n\nEl próximo sábado\, 4 de diciembre\, se realizará el ‘Festival Clausura Academia de Squash’\, en el que niños y jóvenes podrán disfrutar de este deporte y del partido de exhibición entre los profesores Diego Falla y Juan Luján\, explicado por el instructor Jhon Jairo Carmona. Los esperamos.\n\n
URL:https://campestrecali.com/evento/partido-de-exhibicion/
LOCATION:Club campestre de Cali\, Cali\, Valle del Cauca\, Colombia
CATEGORIES:Academias,Destacado,Público,Squash
ATTACH;FMTTYPE=image/jpeg:https://campestrecali.com/wp-content/uploads/2021/12/partido-de-exhibición-4-de-dic-BANNER.jpg
END:VEVENT
BEGIN:VEVENT
DTSTART;TZID=UTC+0:20211204T160000
DTEND;TZID=UTC+0:20211204T180000
DTSTAMP:20260424T224921
CREATED:20211203T201719Z
LAST-MODIFIED:20211203T202344Z
UID:16706-1638633600-1638640800@campestrecali.com
SUMMARY:La Historia del Whisky
DESCRIPTION: \n  \nEl próximo sábado\, 4 de diciembre\, tendremos la conferencia ‘La Historia del Whisky’\, a cargo de James Hughes\, embajador de Pernod Ricard. \n
URL:https://campestrecali.com/evento/la-historia-del-whisky/
LOCATION:Calle 5 con Carrera 100\, Cali\, Colombia
CATEGORIES:Destacado,Destacado solo eventos,Público
ATTACH;FMTTYPE=image/jpeg:https://campestrecali.com/wp-content/uploads/2021/12/sabado-de-historia-whisky-banner.jpg
END:VEVENT
BEGIN:VEVENT
DTSTART;TZID=UTC+0:20211204T170000
DTEND;TZID=UTC+0:20211204T190000
DTSTAMP:20260424T224921
CREATED:20211202T193710Z
LAST-MODIFIED:20211202T194750Z
UID:16648-1638637200-1638644400@campestrecali.com
SUMMARY:Festival Clausura Academia de Squash
DESCRIPTION: \n\nApreciados Socios:\n\n\nEl próximo sábado\, 4 de diciembre\, se realizará el ‘Festival Clausura Academia de Squash’\, en el que niños y jóvenes podrán disfrutar de este deporte y del partido de exhibición entre los profesores Diego Falla y Juan Luján\, explicado por el instructor Jhon Jairo Carmona. Los esperamos.\n\n
URL:https://campestrecali.com/evento/festival-clausura-academia-de-squash/
LOCATION:Club campestre de Cali\, Cali\, Valle del Cauca\, Colombia
CATEGORIES:Academias,Destacado,Público,Squash
ATTACH;FMTTYPE=image/jpeg:https://campestrecali.com/wp-content/uploads/2021/12/TORNEO-SQUASH-NIÑOS-BANNER.jpg
END:VEVENT
BEGIN:VEVENT
DTSTART;TZID=UTC+0:20211204T210000
DTEND;TZID=UTC+0:20211204T233000
DTSTAMP:20260424T224921
CREATED:20211126T175536Z
LAST-MODIFIED:20211201T140602Z
UID:16571-1638651600-1638660600@campestrecali.com
SUMMARY:Fiesta Gimnasio
DESCRIPTION: \nApreciados Socios: \nLos invitamos el próximo sábado\, 4 de diciembre\, a la fiesta organizada por el gimnasio. Los esperamos. \n
URL:https://campestrecali.com/evento/fiesta-gimnasio/
LOCATION:Colombia
CATEGORIES:Destacado,Gimnasio,Público
ATTACH;FMTTYPE=image/jpeg:https://campestrecali.com/wp-content/uploads/2021/11/Fiesta-de-fin-de-año-gimnasio-CLUB-CAMPESTRE-DE-CALIBanner-.jpg
END:VEVENT
END:VCALENDAR