BEGIN:VCALENDAR
VERSION:2.0
PRODID:-//Club Campestre de Cali - ECPv4.6.4//NONSGML v1.0//EN
CALSCALE:GREGORIAN
METHOD:PUBLISH
X-WR-CALNAME:Club Campestre de Cali
X-ORIGINAL-URL:https://campestrecali.com
X-WR-CALDESC:Events for Club Campestre de Cali
BEGIN:VEVENT
DTSTART;TZID=UTC+0:19700101T000000
DTEND;TZID=UTC+0:20250605T230000
DTSTAMP:20260420T035721
CREATED:20250527T154246Z
LAST-MODIFIED:20250527T160244Z
UID:27003-0-1749164400@campestrecali.com
SUMMARY:Super Trail Nocturno
DESCRIPTION: \n
URL:https://campestrecali.com/evento/super-trail-nocturno/
LOCATION:Calle 5 con Carrera 100\, Cali\, Colombia
CATEGORIES:Deportivo,Destacado,Privado,Público
ATTACH;FMTTYPE=image/jpeg:https://campestrecali.com/wp-content/uploads/2025/05/Trail-Nocturno-banner.jpg
END:VEVENT
BEGIN:VEVENT
DTSTART;TZID=UTC+0:20240515T080000
DTEND;TZID=UTC+0:20250515T170000
DTSTAMP:20260420T035721
CREATED:20240515T200804Z
LAST-MODIFIED:20240515T200804Z
UID:24590-1715760000-1747328400@campestrecali.com
SUMMARY:Yoga terapéutico
DESCRIPTION: \n  \n
URL:https://campestrecali.com/evento/yoga-terapeutico-3/
LOCATION:Calle 5 con Carrera 100\, Cali\, Colombia
CATEGORIES:Deportivo,Destacado,Privado,Público
ATTACH;FMTTYPE=image/jpeg:https://campestrecali.com/wp-content/uploads/2024/05/banner-Yoga-terapeutico.jpg
ORGANIZER;CN="Oficina%20de%20Deportes":MAILTO:deportes@campestrecali.com
END:VEVENT
BEGIN:VEVENT
DTSTART;TZID=UTC+0:20241217T080000
DTEND;TZID=UTC+0:20250111T170000
DTSTAMP:20260420T035721
CREATED:20241206T203018Z
LAST-MODIFIED:20241206T203018Z
UID:26153-1734422400-1736614800@campestrecali.com
SUMMARY:Xmas Camp Ecuestre
DESCRIPTION:\n \n  \n
URL:https://campestrecali.com/evento/xmas-camp-ecuestre-2/
LOCATION:Calle 5 con Carrera 100\, Cali\, Colombia
CATEGORIES:Deportivo,Destacado,Privado,Público
ATTACH;FMTTYPE=image/jpeg:https://campestrecali.com/wp-content/uploads/2024/12/Xmas-camp-ecuestre-banner.jpg
END:VEVENT
BEGIN:VEVENT
DTSTART;TZID=UTC+0:20250107T080000
DTEND;TZID=UTC+0:20250111T170000
DTSTAMP:20260420T035721
CREATED:20240821T135254Z
LAST-MODIFIED:20241203T201452Z
UID:25284-1736236800-1736614800@campestrecali.com
SUMMARY:Clínica de Tenis Rafa Nadal
DESCRIPTION:Regresa al Club Campestre de Cali la Clínica de Tenis de la Academia de Rafa Nadal\, para juniors y adultos. La metodología del tenista español\, que lo ha convertido en uno de los deportistas más grandes de la historia\, será aplicada de nuevo por los entrenadores de la prestigiosa academia española en el Club y los socios no pueden dejar pasar esta oportunidad. Inscripciones abiertas. Descuentos especiales ingresando a la página www.rafanadalacademycampusa.com/cali/ \n \n
URL:https://campestrecali.com/evento/clinica-de-tenis-rafa-nadal/
LOCATION:Club Campestre de Cali\, Valle del Cauca\, 760031\, Colombia
CATEGORIES:Academias,Deportivo,Destacado,Privado,Público,Tenis
ATTACH;FMTTYPE=image/jpeg:https://campestrecali.com/wp-content/uploads/2024/08/Banner.jpg
END:VEVENT
END:VCALENDAR