BEGIN:VCALENDAR
VERSION:2.0
PRODID:-//Club Campestre de Cali - ECPv4.6.4//NONSGML v1.0//EN
CALSCALE:GREGORIAN
METHOD:PUBLISH
X-WR-CALNAME:Club Campestre de Cali
X-ORIGINAL-URL:https://campestrecali.com
X-WR-CALDESC:Events for Club Campestre de Cali
BEGIN:VEVENT
DTSTART;TZID=UTC+0:19700101T000000
DTEND;TZID=UTC+0:20231111T150000
DTSTAMP:20260422T005904
CREATED:20231010T223650Z
LAST-MODIFIED:20231010T223650Z
UID:23103-0-1699714800@campestrecali.com
SUMMARY:Torneo Proam Masculino
DESCRIPTION: \n
URL:https://campestrecali.com/evento/torneo-proam-masculino-6/
LOCATION:Calle 5 con Carrera 100\, Cali\, Colombia
CATEGORIES:Academias,Deportivo,Deportivos,Destacado,Destacado solo eventos,Tenis,Tenis
ATTACH;FMTTYPE=image/jpeg:https://campestrecali.com/wp-content/uploads/2023/10/Torneo-proam-masculino-20mayo-banner-1.jpg
END:VEVENT
BEGIN:VEVENT
DTSTART;TZID=UTC+0:19700101T000000
DTEND;TZID=UTC+0:20250605T230000
DTSTAMP:20260422T005904
CREATED:20250527T154246Z
LAST-MODIFIED:20250527T160244Z
UID:27003-0-1749164400@campestrecali.com
SUMMARY:Super Trail Nocturno
DESCRIPTION: \n
URL:https://campestrecali.com/evento/super-trail-nocturno/
LOCATION:Calle 5 con Carrera 100\, Cali\, Colombia
CATEGORIES:Deportivo,Destacado,Privado,Público
ATTACH;FMTTYPE=image/jpeg:https://campestrecali.com/wp-content/uploads/2025/05/Trail-Nocturno-banner.jpg
END:VEVENT
BEGIN:VEVENT
DTSTART;TZID=UTC+0:20211021T080000
DTEND;TZID=UTC+0:20211024T170000
DTSTAMP:20260422T005904
CREATED:20211009T192514Z
LAST-MODIFIED:20211009T192943Z
UID:16048-1634803200-1635094800@campestrecali.com
SUMMARY:Torneo Interligas y Nacional de Squash
DESCRIPTION: \n  \nDel 21 al 24 de octubre tendremos el ‘Torneo Interligas y Nacional de Squash’\, en el que participarán las deportistas de Antioquia\, Cundinamarca\, Bolívar\, Santander\, Valle del Cauca y Bogotá. Los esperamos para continuar celebrando los 91 años de nuestro Club. \n
URL:https://campestrecali.com/evento/torneo-interligas-y-nacional-de-squash/
LOCATION:Club campestre de Cali\, Cali\, Valle del Cauca\, Colombia
CATEGORIES:Destacado,Público,Squash
ATTACH;FMTTYPE=image/jpeg:https://campestrecali.com/wp-content/uploads/2021/10/Banner-Torneo-interligas-y-nacional-de-squash.jpg
END:VEVENT
BEGIN:VEVENT
DTSTART;TZID=UTC+0:20211022T090000
DTEND;TZID=UTC+0:20211022T170000
DTSTAMP:20260422T005904
CREATED:20211011T201037Z
LAST-MODIFIED:20220913T190822Z
UID:16081-1634893200-1634922000@campestrecali.com
SUMMARY:Campestre Car Show
DESCRIPTION: \n  \n Llega a nuestro Club del 22 al 24 de octubre el ‘Campestre Car Show’\, en el que las mejores marcas de automóviles nos visitarán . Los esperamos.  \n
URL:https://campestrecali.com/evento/campestre-car-show/
LOCATION:Calle 5 con Carrera 100\, Cali\, Colombia
CATEGORIES:Deportivos,Destacado
ATTACH;FMTTYPE=image/jpeg:https://campestrecali.com/wp-content/uploads/2021/10/CAMPESTRRE-CAR-SHOW-CLUB-CAMPESTRE-DE-CALIBanner.jpg
END:VEVENT
BEGIN:VEVENT
DTSTART;TZID=UTC+0:20211022T173000
DTEND;TZID=UTC+0:20211022T190000
DTSTAMP:20260422T005904
CREATED:20211022T174105Z
LAST-MODIFIED:20211022T174426Z
UID:16229-1634923800-1634929200@campestrecali.com
SUMMARY:Conversatorio Musical Vida y Obra de José Antonio 'Monís' Zorrilla
DESCRIPTION: \nHoy en nuestro ‘Conversatorio Musical’ tendremos la vida y obra del poeta y compositor mexicano\, José Antonio ‘Monís’ Zorrilla. 🇲🇽 Disfrute de sus éxitos. \n
URL:https://campestrecali.com/evento/conversatorio-musical-vida-y-obra-de-alvaro-dalmar-copy/
LOCATION:Calle 5 con Carrera 100\, Cali\, Colombia
CATEGORIES:Destacado,Destacado solo eventos,Público
ATTACH;FMTTYPE=image/jpeg:https://campestrecali.com/wp-content/uploads/2021/10/VIERNES-VIDA-Y-OBRA-22-DE-OCTUBE-CLUB-CAMPESTRE-DE-CALIBanner-.jpg
END:VEVENT
BEGIN:VEVENT
DTSTART;TZID=UTC+0:20211022T200000
DTEND;TZID=UTC+0:20211022T210000
DTSTAMP:20260422T005904
CREATED:20211022T150730Z
LAST-MODIFIED:20211022T151003Z
UID:16224-1634932800-1634936400@campestrecali.com
SUMMARY:Disfrute una Noche Especial de Boleros & Salsa
DESCRIPTION: \n  \n  \nContinuando con la celebración por nuestros 91 años\, disfrutaremos de una noche especial de boleros & salsa\, en la voz de Danny Román. Los esperamos en nuestros ‘Viernes Musicales’. \n
URL:https://campestrecali.com/evento/disfrute-una-noche-especial-de-boleros-salsa/
LOCATION:Cali\, Colombia
CATEGORIES:Destacado,Destacado solo eventos,Público
ATTACH;FMTTYPE=image/jpeg:https://campestrecali.com/wp-content/uploads/2021/10/Viernes-musicales-22-de-octubrE-BANNER.jpg
END:VEVENT
END:VCALENDAR