BEGIN:VCALENDAR
VERSION:2.0
PRODID:-//Club Campestre de Cali - ECPv4.6.4//NONSGML v1.0//EN
CALSCALE:GREGORIAN
METHOD:PUBLISH
X-WR-CALNAME:Club Campestre de Cali
X-ORIGINAL-URL:https://campestrecali.com
X-WR-CALDESC:Events for Club Campestre de Cali
BEGIN:VEVENT
DTSTART;TZID=UTC+0:20220604T080000
DTEND;TZID=UTC+0:20220605T170000
DTSTAMP:20260424T011508
CREATED:20220610T201019Z
LAST-MODIFIED:20220913T162915Z
UID:18478-1654329600-1654448400@campestrecali.com
SUMMARY:Vive la final del Roland Garros
DESCRIPTION:  \n  \n
URL:https://campestrecali.com/evento/vive-la-final-del-roland-garros/
LOCATION:Cali\, Colombia
CATEGORIES:Deportivos,Destacado,Privado,Tenis
ATTACH;FMTTYPE=image/jpeg:https://campestrecali.com/wp-content/uploads/2022/06/VIVE-LA-FINAL-DE-TENIS-ROLAND-GARROS-banner.jpg
END:VEVENT
END:VCALENDAR