BEGIN:VCALENDAR
VERSION:2.0
PRODID:-//Club Campestre de Cali - ECPv4.6.4//NONSGML v1.0//EN
CALSCALE:GREGORIAN
METHOD:PUBLISH
X-WR-CALNAME:Club Campestre de Cali
X-ORIGINAL-URL:https://campestrecali.com
X-WR-CALDESC:Events for Club Campestre de Cali
BEGIN:VEVENT
DTSTART;TZID=UTC+0:20240405T193000
DTEND;TZID=UTC+0:20240405T230000
DTSTAMP:20260419T161918
CREATED:20240406T151952Z
LAST-MODIFIED:20240406T151952Z
UID:24242-1712345400-1712358000@campestrecali.com
SUMMARY:Viernes Musicales con Felix Bernal
DESCRIPTION: \n
URL:https://campestrecali.com/evento/viernes-musicales-con-felix-bernal/
LOCATION:Cali\, Colombia
CATEGORIES:Destacado,Privado,Público
ATTACH;FMTTYPE=image/jpeg:https://campestrecali.com/wp-content/uploads/2024/04/viernes-musicales-banner.jpg
END:VEVENT
END:VCALENDAR