BEGIN:VCALENDAR
VERSION:2.0
PRODID:-//Club Campestre de Cali - ECPv4.6.4//NONSGML v1.0//EN
CALSCALE:GREGORIAN
METHOD:PUBLISH
X-WR-CALNAME:Club Campestre de Cali
X-ORIGINAL-URL:https://campestrecali.com
X-WR-CALDESC:Events for Club Campestre de Cali
BEGIN:VEVENT
DTSTART;TZID=UTC+0:20190501T060000
DTEND;TZID=UTC+0:20190503T170000
DTSTAMP:20260424T215317
CREATED:20190413T192813Z
LAST-MODIFIED:20201217T222850Z
UID:7036-1556690400-1556902800@campestrecali.com
SUMMARY:Torneo Regional Senior
DESCRIPTION: \n
URL:https://campestrecali.com/evento/torneo-regional-senior/
LOCATION:Valle del cauca\, Colombia
CATEGORIES:Academias,Deportivo,Destacado,Golf,Público
ATTACH;FMTTYPE=image/jpeg:https://campestrecali.com/wp-content/uploads/2019/04/Banner-Torneo-Regional-Senior.jpg
ORGANIZER;CN="Oficina%20de%20Deportes":MAILTO:deportes@campestrecali.com
END:VEVENT
END:VCALENDAR