BEGIN:VCALENDAR
VERSION:2.0
PRODID:-//Club Campestre de Cali - ECPv4.6.4//NONSGML v1.0//EN
CALSCALE:GREGORIAN
METHOD:PUBLISH
X-WR-CALNAME:Club Campestre de Cali
X-ORIGINAL-URL:https://campestrecali.com
X-WR-CALDESC:Events for Club Campestre de Cali
BEGIN:VEVENT
DTSTART;TZID=UTC+0:20190427T090000
DTEND;TZID=UTC+0:20190427T130000
DTSTAMP:20260424T183946
CREATED:20190413T180216Z
LAST-MODIFIED:20201217T222922Z
UID:7010-1556355600-1556370000@campestrecali.com
SUMMARY:Torneo Padres e Hijos Credicorp Capital
DESCRIPTION:  \n
URL:https://campestrecali.com/evento/torneo-padres-e-hijos-credicorp/
LOCATION:Club Campestre de Cali\, Valle del Cauca\, 760031\, Colombia
CATEGORIES:Academias,Deportivo,Destacado,Público,Tenis
ATTACH;FMTTYPE=image/jpeg:https://campestrecali.com/wp-content/uploads/2019/04/Torneo-padres-e-hijos.jpg
ORGANIZER;CN="Oficina%20de%20Deportes":MAILTO:deportes@campestrecali.com
END:VEVENT
END:VCALENDAR