BEGIN:VCALENDAR
VERSION:2.0
PRODID:-//Club Campestre de Cali - ECPv4.6.4//NONSGML v1.0//EN
CALSCALE:GREGORIAN
METHOD:PUBLISH
X-WR-CALNAME:Club Campestre de Cali
X-ORIGINAL-URL:https://campestrecali.com
X-WR-CALDESC:Events for Club Campestre de Cali
BEGIN:VEVENT
DTSTART;TZID=UTC+0:20210626T120000
DTEND;TZID=UTC+0:20210626T150000
DTSTAMP:20260424T192114
CREATED:20210624T163621Z
LAST-MODIFIED:20210907T211356Z
UID:14563-1624708800-1624719600@campestrecali.com
SUMMARY:Torneo de Sencillos Masculino por Categorías
DESCRIPTION:Torneo de Sencillos Masculino por Categorías\n \n  \nApreciados tenistas: \nLos invitamos a participar del Torneo de Sencillos Masculino por Categorías\, que se jugará el sábado 26 de junio. Los esperamos. \n
URL:https://campestrecali.com/evento/torneo-de-sencillos-masculino-por-categorias/
LOCATION:Club Campestre de Cali\, Valle del Cauca\, 760031\, Colombia
CATEGORIES:Deportivo,Destacado,Público
ATTACH;FMTTYPE=image/jpeg:https://campestrecali.com/wp-content/uploads/2021/06/banner-torneo-sencillos-por-categoria.jpg
END:VEVENT
END:VCALENDAR