BEGIN:VCALENDAR
VERSION:2.0
PRODID:-//Club Campestre de Cali - ECPv4.6.4//NONSGML v1.0//EN
CALSCALE:GREGORIAN
METHOD:PUBLISH
X-WR-CALNAME:Club Campestre de Cali
X-ORIGINAL-URL:https://campestrecali.com
X-WR-CALDESC:Events for Club Campestre de Cali
BEGIN:VEVENT
DTSTART;TZID=UTC+0:20220607T140000
DTEND;TZID=UTC+0:20220607T180000
DTSTAMP:20260423T222758
CREATED:20220609T171522Z
LAST-MODIFIED:20220913T162856Z
UID:18435-1654610400-1654624800@campestrecali.com
SUMMARY:Torneo de Bridge
DESCRIPTION:\n
URL:https://campestrecali.com/evento/torneo-de-bridge-7-de-junio/
LOCATION:Club campestre de Cali\, Cali\, Valle del Cauca\, Colombia
CATEGORIES:Bridge,Deportivos,Privado,Público
ATTACH;FMTTYPE=image/jpeg:https://campestrecali.com/wp-content/uploads/2022/03/deporte-ciencia-bridge-post-marzo-8-2022-banner.jpg
END:VEVENT
END:VCALENDAR