BEGIN:VCALENDAR
VERSION:2.0
PRODID:-//Club Campestre de Cali - ECPv4.6.4//NONSGML v1.0//EN
CALSCALE:GREGORIAN
METHOD:PUBLISH
X-WR-CALNAME:Club Campestre de Cali
X-ORIGINAL-URL:https://campestrecali.com
X-WR-CALDESC:Events for Club Campestre de Cali
BEGIN:VEVENT
DTSTART;TZID=UTC+0:20211117T160000
DTEND;TZID=UTC+0:20211117T180000
DTSTAMP:20260424T082651
CREATED:20211117T195121Z
LAST-MODIFIED:20211117T195430Z
UID:16396-1637164800-1637172000@campestrecali.com
SUMMARY:Tardes Musicales presenta: 'Grandes Composiciones de Händel'
DESCRIPTION:\n  \nHoy en nuestras ‘Tardes Musicales’ tendremos las ‘Grandes Composiciones de Händel’\, con un gran espectáculo musical y visual al aire libre.  Disfruten de estas melodías. \n
URL:https://campestrecali.com/evento/tardes-musicales-presenta-grandes-composiciones-de-handel/
LOCATION:Calle 5 con Carrera 100\, Cali\, Colombia
CATEGORIES:Destacado,Destacado solo eventos,Público
ATTACH;FMTTYPE=image/jpeg:https://campestrecali.com/wp-content/uploads/2021/11/MIERCOLES-MUSICALES-17-DE-NOVIEMBRE-CLUB-CAMPESTRE-DE-CALI-Banner-tardes-musicales.jpg
END:VEVENT
END:VCALENDAR