BEGIN:VCALENDAR
VERSION:2.0
PRODID:-//Club Campestre de Cali - ECPv4.6.4//NONSGML v1.0//EN
CALSCALE:GREGORIAN
METHOD:PUBLISH
X-WR-CALNAME:Club Campestre de Cali
X-ORIGINAL-URL:https://campestrecali.com
X-WR-CALDESC:Events for Club Campestre de Cali
BEGIN:VEVENT
DTSTART;TZID=UTC+0:20220608T160000
DTEND;TZID=UTC+0:20220608T180000
DTSTAMP:20260423T204531
CREATED:20220610T233331Z
LAST-MODIFIED:20220610T233607Z
UID:18549-1654704000-1654711200@campestrecali.com
SUMMARY:Tardes musicales - Una noche de danzas y rapsodias
DESCRIPTION:  \n \n
URL:https://campestrecali.com/evento/tardes-musicales-concierto-europeo-2022-copy/
LOCATION:Calle 5 con Carrera 100\, Cali\, Colombia
CATEGORIES:Destacado,Privado,Virtual
ATTACH;FMTTYPE=image/jpeg:https://campestrecali.com/wp-content/uploads/2022/06/Miercoles-8-de-junio-club-campestre-de-cali-Banner.jpg
END:VEVENT
END:VCALENDAR