BEGIN:VCALENDAR
VERSION:2.0
PRODID:-//Club Campestre de Cali - ECPv4.6.4//NONSGML v1.0//EN
CALSCALE:GREGORIAN
METHOD:PUBLISH
X-WR-CALNAME:Club Campestre de Cali
X-ORIGINAL-URL:https://campestrecali.com
X-WR-CALDESC:Events for Club Campestre de Cali
BEGIN:VEVENT
DTSTART;TZID=UTC+0:20240619T173000
DTEND;TZID=UTC+0:20240619T193000
DTSTAMP:20260419T200729
CREATED:20240608T171526Z
LAST-MODIFIED:20240608T171526Z
UID:24787-1718818200-1718825400@campestrecali.com
SUMMARY:Soundbath Sentir y Fluir
DESCRIPTION: \n
URL:https://campestrecali.com/evento/soundbath-sentir-y-fluir/
LOCATION:Club campestre de Cali\, Cali\, Valle del Cauca\, Colombia
CATEGORIES:Deportivo,Deportivos,Destacado,Privado,Público
ATTACH;FMTTYPE=image/jpeg:https://campestrecali.com/wp-content/uploads/2024/06/Banner-sound-bath.jpg
END:VEVENT
END:VCALENDAR