BEGIN:VCALENDAR
VERSION:2.0
PRODID:-//Club Campestre de Cali - ECPv4.6.4//NONSGML v1.0//EN
CALSCALE:GREGORIAN
METHOD:PUBLISH
X-WR-CALNAME:Club Campestre de Cali
X-ORIGINAL-URL:https://campestrecali.com
X-WR-CALDESC:Events for Club Campestre de Cali
BEGIN:VEVENT
DTSTART;TZID=UTC+0:20240403T160000
DTEND;TZID=UTC+0:20240407T193000
DTSTAMP:20260421T084902
CREATED:20240404T165027Z
LAST-MODIFIED:20240404T165217Z
UID:24214-1712160000-1712518200@campestrecali.com
SUMMARY:Programación Campestre Virtual del 3 al 7 de abril
DESCRIPTION: \n
URL:https://campestrecali.com/evento/programacion-campestre-virtual-3-al-7-de-abril/
LOCATION:Calle 5 con Carrera 100\, Cali\, Colombia
CATEGORIES:Destacado,Destacado solo eventos,Privado,Público
ATTACH;FMTTYPE=image/jpeg:https://campestrecali.com/wp-content/uploads/2023/08/prgramación-virtual-28-de-agosto-banner.jpg
END:VEVENT
END:VCALENDAR