BEGIN:VCALENDAR
VERSION:2.0
PRODID:-//Club Campestre de Cali - ECPv4.6.4//NONSGML v1.0//EN
CALSCALE:GREGORIAN
METHOD:PUBLISH
X-WR-CALNAME:Club Campestre de Cali
X-ORIGINAL-URL:https://campestrecali.com
X-WR-CALDESC:Events for Club Campestre de Cali
BEGIN:VEVENT
DTSTART;TZID=UTC+0:20210626T153000
DTEND;TZID=UTC+0:20210626T180000
DTSTAMP:20260424T175105
CREATED:20210610T171040Z
LAST-MODIFIED:20210907T211341Z
UID:14357-1624721400-1624730400@campestrecali.com
SUMMARY:Off Road Triatlón Campestre
DESCRIPTION:Off Road Triatlón Campestre\n  \n  \nApreciadas Socias: \nLas invitamos a participar del Torneo Relámpago de Dobles Femenino 🎾 en las categorías A y B\, que se jugará el sábado 12 de junio. Las esperamos. \n
URL:https://campestrecali.com/evento/off-road-triatlon-campestre/
LOCATION:Calle 5 con Carrera 100\, Cali\, Colombia
CATEGORIES:Deportivo,Destacado,Público,Triatlón
ATTACH;FMTTYPE=image/jpeg:https://campestrecali.com/wp-content/uploads/2021/06/banner-dos-horas-de-triatlon.jpg
END:VEVENT
END:VCALENDAR