BEGIN:VCALENDAR
VERSION:2.0
PRODID:-//Club Campestre de Cali - ECPv4.6.4//NONSGML v1.0//EN
CALSCALE:GREGORIAN
METHOD:PUBLISH
X-WR-CALNAME:Club Campestre de Cali
X-ORIGINAL-URL:https://campestrecali.com
X-WR-CALDESC:Events for Club Campestre de Cali
BEGIN:VEVENT
DTSTART;TZID=UTC+0:20210628T160000
DTEND;TZID=UTC+0:20210628T180000
DTSTAMP:20260425T013006
CREATED:20210624T153723Z
LAST-MODIFIED:20210624T154422Z
UID:14547-1624896000-1624903200@campestrecali.com
SUMMARY:Lunes de salud 'La alimentación como terapia de apoyo en pacientes diagnosticados con Covid-19'
DESCRIPTION:Lunes de salud presenta la conferencia:\n‘La alimentación como terapia de apoyo en pacientes diagnosticados con Covid-19’\nDra. Sandra Alfaro \n \nLlevar una dieta saludable tiene muchos beneficios\, conozca como puede ayudar a los pacientes diagnosticados con Covid-19. Los invitamos a la conferencia virtual de nuestros ‘Lunes de la Salud’. \n \n
URL:https://campestrecali.com/evento/lunes-de-salud-la-alimentacion-como-terapia-de-apoyo-en-pacientes-diagnosticados-con-covid-19/
LOCATION:Calle 5 con Carrera 100\, Cali\, Colombia
CATEGORIES:Destacado,Público
ATTACH;FMTTYPE=image/jpeg:https://campestrecali.com/wp-content/uploads/2021/06/Banner-Club-campestre-de-cali-27-de-junio.jpg
END:VEVENT
END:VCALENDAR