BEGIN:VCALENDAR
VERSION:2.0
PRODID:-//Club Campestre de Cali - ECPv4.6.4//NONSGML v1.0//EN
CALSCALE:GREGORIAN
METHOD:PUBLISH
X-WR-CALNAME:Club Campestre de Cali
X-ORIGINAL-URL:https://campestrecali.com
X-WR-CALDESC:Events for Club Campestre de Cali
BEGIN:VEVENT
DTSTART;TZID=UTC+0:20190426T190000
DTEND;TZID=UTC+0:20190426T210000
DTSTAMP:20260425T011611
CREATED:20190427T175808Z
LAST-MODIFIED:20201217T223017Z
UID:7093-1556305200-1556312400@campestrecali.com
SUMMARY:La Pared Cultural - "El Lugar del Suceder"
DESCRIPTION: \n
URL:https://campestrecali.com/evento/la-pared-cultural-el-lugar-del-suceder/
LOCATION:Cali\, Colombia
CATEGORIES:Destacado,Público
ATTACH;FMTTYPE=image/jpeg:https://campestrecali.com/wp-content/uploads/2019/04/Inaguración-la-pared.jpg
END:VEVENT
END:VCALENDAR