BEGIN:VCALENDAR
VERSION:2.0
PRODID:-//Club Campestre de Cali - ECPv4.6.4//NONSGML v1.0//EN
CALSCALE:GREGORIAN
METHOD:PUBLISH
X-WR-CALNAME:Club Campestre de Cali
X-ORIGINAL-URL:https://campestrecali.com
X-WR-CALDESC:Events for Club Campestre de Cali
BEGIN:VEVENT
DTSTART;TZID=UTC+0:20231226T190000
DTEND;TZID=UTC+0:20231227T040000
DTSTAMP:20260420T010201
CREATED:20231107T151401Z
LAST-MODIFIED:20231107T151401Z
UID:23285-1703617200-1703649600@campestrecali.com
SUMMARY:Festival de Orquestas
DESCRIPTION: \n
URL:https://campestrecali.com/evento/festival-de-orquestas-5/
LOCATION:Calle 5 con Carrera 100\, Cali\, Colombia
CATEGORIES:Destacado,Privado,Público
ATTACH;FMTTYPE=image/jpeg:https://campestrecali.com/wp-content/uploads/2023/11/Festival-de-Orquestas-2023-banner.jpg
END:VEVENT
END:VCALENDAR