BEGIN:VCALENDAR
VERSION:2.0
PRODID:-//Club Campestre de Cali - ECPv4.6.4//NONSGML v1.0//EN
CALSCALE:GREGORIAN
METHOD:PUBLISH
X-WR-CALNAME:Club Campestre de Cali
X-ORIGINAL-URL:https://campestrecali.com
X-WR-CALDESC:Events for Club Campestre de Cali
BEGIN:VEVENT
DTSTART;TZID=UTC+0:20210628T080000
DTEND;TZID=UTC+0:20210806T180000
DTSTAMP:20260424T220824
CREATED:20210609T142109Z
LAST-MODIFIED:20210609T142311Z
UID:14317-1624867200-1628272800@campestrecali.com
SUMMARY:Exploradores Campestre
DESCRIPTION:Exploradores Campestre\n  \n  \nMúsica\, arte\, juegos y mucho más\, podrán disfrutar los niños en nuestro programa ‘Exploradores Campestre’ dirigido por licenciadas en pre-escolar. \n
URL:https://campestrecali.com/evento/exploradores-campestre/
LOCATION:Calle 5 con Carrera 100\, Cali\, Colombia
CATEGORIES:Destacado,Público
ATTACH;FMTTYPE=image/jpeg:https://campestrecali.com/wp-content/uploads/2021/06/BANNER-3.jpg
END:VEVENT
END:VCALENDAR