BEGIN:VCALENDAR
VERSION:2.0
PRODID:-//Club Campestre de Cali - ECPv4.6.4//NONSGML v1.0//EN
CALSCALE:GREGORIAN
METHOD:PUBLISH
X-WR-CALNAME:Club Campestre de Cali
X-ORIGINAL-URL:https://campestrecali.com
X-WR-CALDESC:Events for Club Campestre de Cali
BEGIN:VEVENT
DTSTART;TZID=UTC+0:20210627T160000
DTEND;TZID=UTC+0:20210627T180000
DTSTAMP:20260424T185353
CREATED:20210624T150006Z
LAST-MODIFIED:20210624T153036Z
UID:14542-1624809600-1624816800@campestrecali.com
SUMMARY:Domingo de película presenta: The Princess Bride
DESCRIPTION:Domingo de película presenta:\n‘The Princess Bride’\n \n  \nLa película romántica de fantasía medieval ‘The Princess Bride’\, adaptación del libro homónimo escrito por William Goldman (1973) y dirigida por Rob Reiner\, se presentará en nuestro ‘Domingo de Película’. \n
URL:https://campestrecali.com/evento/domingo-de-pelicula-presenta-the-princess-bride/
LOCATION:Calle 5 con Carrera 100\, Cali\, Colombia
CATEGORIES:Destacado,Público
ATTACH;FMTTYPE=image/jpeg:https://campestrecali.com/wp-content/uploads/2021/06/BANNER-Club-campestre-de-cali-27-de-junio.jpg
END:VEVENT
END:VCALENDAR