BEGIN:VCALENDAR
VERSION:2.0
PRODID:-//Club Campestre de Cali - ECPv4.6.4//NONSGML v1.0//EN
CALSCALE:GREGORIAN
METHOD:PUBLISH
X-WR-CALNAME:Club Campestre de Cali
X-ORIGINAL-URL:https://campestrecali.com
X-WR-CALDESC:Events for Club Campestre de Cali
BEGIN:VEVENT
DTSTART;TZID=UTC+0:20211203T173000
DTEND;TZID=UTC+0:20211203T190000
DTSTAMP:20260425T004508
CREATED:20211203T181741Z
LAST-MODIFIED:20211203T182112Z
UID:16701-1638552600-1638558000@campestrecali.com
SUMMARY:Conversatorio Vida y Obra de Tito Rodríguez
DESCRIPTION: \nHoy en nuestro ‘Conversatorio Musical’ tendremos la vida y obra del cantante\, músico y director de orquesta puertorriqueño\, Tito Rodríguez. Disfrute de sus éxitos. \n
URL:https://campestrecali.com/evento/conversatorio-vida-y-obra-de-tito-rodriguez/
LOCATION:Calle 5 con Carrera 100\, Cali\, Colombia
CATEGORIES:Destacado,Público
ATTACH;FMTTYPE=image/jpeg:https://campestrecali.com/wp-content/uploads/2021/12/Viernes-vida-y-obra-3-de-diciembre-club-campestre-de-caliBanner-@72x-100.jpg
END:VEVENT
END:VCALENDAR