BEGIN:VCALENDAR
VERSION:2.0
PRODID:-//Club Campestre de Cali - ECPv4.6.4//NONSGML v1.0//EN
CALSCALE:GREGORIAN
METHOD:PUBLISH
X-WR-CALNAME:Club Campestre de Cali
X-ORIGINAL-URL:https://campestrecali.com
X-WR-CALDESC:Events for Club Campestre de Cali
BEGIN:VEVENT
DTSTART;TZID=UTC+0:20210629T160000
DTEND;TZID=UTC+0:20210629T173000
DTSTAMP:20260425T032134
CREATED:20210624T155502Z
LAST-MODIFIED:20210629T132616Z
UID:14558-1624982400-1624987800@campestrecali.com
SUMMARY:Conferencias 'Cómo reubicarse en Estados Unidos y escoger el negocio ideal'
DESCRIPTION:Conferencias ‘Cómo reubicarse en Estados Unidos y escoger el negocio ideal’\n \n  \nEn nuestro ‘Martes de Bienestar y Desarrollo Personal’ hablaremos sobre ‘Cómo reubicarse en Estados Unidos y escoger el negocio ideal’. \n
URL:https://campestrecali.com/evento/conferencias-como-reubicarse-en-estados-unidos-y-escoger-el-negocio-ideal/
LOCATION:Calle 5 con Carrera 100\, Cali\, Colombia
CATEGORIES:Destacado,Destacado solo eventos,Público
ATTACH;FMTTYPE=image/jpeg:https://campestrecali.com/wp-content/uploads/2021/06/Banner-Como-reubicarse-en-estados-unidos.jpg
END:VEVENT
END:VCALENDAR