BEGIN:VCALENDAR
VERSION:2.0
PRODID:-//Club Campestre de Cali - ECPv4.6.4//NONSGML v1.0//EN
CALSCALE:GREGORIAN
METHOD:PUBLISH
X-WR-CALNAME:Club Campestre de Cali
X-ORIGINAL-URL:https://campestrecali.com
X-WR-CALDESC:Events for Club Campestre de Cali
BEGIN:VEVENT
DTSTART;TZID=UTC+0:20240108T080000
DTEND;TZID=UTC+0:20240112T180000
DTSTAMP:20260421T154031
CREATED:20231002T223015Z
LAST-MODIFIED:20240117T165821Z
UID:22965-1704700800-1705082400@campestrecali.com
SUMMARY:Clínica con Rafael Nadal Academy
DESCRIPTION: \n \n \nCali \n \n
URL:https://campestrecali.com/evento/clinica-con-rafael-nadal-academy/
LOCATION:Calle 5 con Carrera 100\, Cali\, Colombia
CATEGORIES:Deportivo,Deportivos,Destacado,Privado,Público
ATTACH;FMTTYPE=image/jpeg:https://campestrecali.com/wp-content/uploads/2023/10/BANNER-Clínica-academia-de-rafael-nadal-2.jpg
END:VEVENT
END:VCALENDAR