BEGIN:VCALENDAR
VERSION:2.0
PRODID:-//Club Campestre de Cali - ECPv4.6.4//NONSGML v1.0//EN
CALSCALE:GREGORIAN
METHOD:PUBLISH
X-WR-CALNAME:Club Campestre de Cali
X-ORIGINAL-URL:https://campestrecali.com
X-WR-CALDESC:Events for Club Campestre de Cali
BEGIN:VEVENT
DTSTART;TZID=UTC+0:20210628T180000
DTEND;TZID=UTC+0:20210628T190000
DTSTAMP:20260425T015228
CREATED:20210624T154848Z
LAST-MODIFIED:20210624T155203Z
UID:14553-1624903200-1624906800@campestrecali.com
SUMMARY:Ciclo de Conferencias de Arte: Fauvismo
DESCRIPTION:Ciclo de Conferencias de Arte: Fauvismo\n \n  \nEn nuestro ‘Ciclo de Conferencias de Arte’ abordaremos el Fauvismo\, movimiento pictórico que exaltaba el color\, el cual consideraba que surgía más del instinto que del intelecto o de los sentimientos. \n
URL:https://campestrecali.com/evento/ciclo-de-conferencias-de-arte-fauvismo/
LOCATION:Calle 5 con Carrera 100\, Cali\, Colombia
CATEGORIES:Destacado,Público
ATTACH;FMTTYPE=image/jpeg:https://campestrecali.com/wp-content/uploads/2021/06/CICLO-3-CONFERENCIAS-LUNES-ARTE-banner-fauvismo.jpg
END:VEVENT
END:VCALENDAR