BEGIN:VCALENDAR
VERSION:2.0
PRODID:-//Club Campestre de Cali - ECPv4.6.4//NONSGML v1.0//EN
CALSCALE:GREGORIAN
METHOD:PUBLISH
X-WR-CALNAME:Club Campestre de Cali
X-ORIGINAL-URL:https://campestrecali.com
X-WR-CALDESC:Events for Club Campestre de Cali
BEGIN:VEVENT
DTSTART;TZID=UTC+0:20231228T190000
DTEND;TZID=UTC+0:20231229T040000
DTSTAMP:20260419T231535
CREATED:20231107T151612Z
LAST-MODIFIED:20240103T220225Z
UID:23287-1703790000-1703822400@campestrecali.com
SUMMARY:BUCHANAN´S EL ALMA DE LA FIESTA
DESCRIPTION: \n
URL:https://campestrecali.com/evento/buchanans-el-alma-de-la-fiesta/
LOCATION:Calle 5 con Carrera 100\, Cali\, Colombia
CATEGORIES:Destacado,Privado,Público
ATTACH;FMTTYPE=image/jpeg:https://campestrecali.com/wp-content/uploads/2023/11/Buchanan-el-alma-de-la-fiesta-banner.jpg
END:VEVENT
END:VCALENDAR