BEGIN:VCALENDAR
VERSION:2.0
PRODID:-//Club Campestre de Cali - ECPv4.6.4//NONSGML v1.0//EN
CALSCALE:GREGORIAN
METHOD:PUBLISH
X-WR-CALNAME:Club Campestre de Cali
X-ORIGINAL-URL:https://campestrecali.com
X-WR-CALDESC:Events for Club Campestre de Cali
BEGIN:VEVENT
DTSTART;TZID=UTC+0:20200110T190000
DTEND;TZID=UTC+0:20200110T220000
DTSTAMP:20260424T211102
CREATED:20191221T001256Z
LAST-MODIFIED:20191223T205220Z
UID:8798-1578682800-1578693600@campestrecali.com
SUMMARY:Alas Doradas\, en el corredor cultural La Pared
DESCRIPTION:“Cuando dibujo hago una travesía en el bosque. En medio de los árboles\, tal como en medio del papel en blanco\, encuentro un lugar de una calma interminable y de posibilidades infinitas las cuales adoro contemplar”. Daniel Merac \nDaniel Merac es un joven artista caleño que ha logrado fusionar su arte del dibujo con la fotografía y el diseño industrial. Sus dibujos están estrechamente relacionados con la naturaleza\, la conciencia ambiental\, las emociones y el simbolismo.  Durante años se ha especializado en dibujar especies de aves\, vida silvestre\, así como también diferentes elementos de la naturaleza fusionando las bellas artes y la ilustración. Durante su carrera ha estado muy interesado en crear conciencia sobre las especies de aves en peligro de extinción a través de sus detalladas obras de arte tradicional en tinta.  \nLa serie Alas Doradas\, llega al Club campestre en el nuevo espacio del segundo piso de nuestro corredor Cultural. “La otra pared”\, fue inaugurada el pasado mes de noviembre y el próximo viernes 10 de enero de 2020 recibirá esta serie de dibujos en tinta china que tiene como protagonistas a las aves. Sus obras nos incitan a la apreciación detallada de diferentes especies animales y naturales. \nEstos trazos son fruto de una concienzuda observación\, resultado de un proceso meditado\, de travesías por el bosque\, en medio de los árboles y de la calma que permite la contemplación. Por más de tres años\, el artista logró internarse en la observación de las aves y dibujó alrededor de 100 especies distintas. Para Merac\,  su obra “es una semilla de contemplación y amor por la vida\, una que se siembra trazo a trazo. Mientras este ahí afuera siendo esparcida por las aves\, para que crezca y florezca en un ser humano de algún lugar del mundo\, soy feliz y tengo motivos suficientes para empacar hojas de papel\, rellenar mi marcador y continuar con mi viaje a lo largo del bosque”. \n  \n \n
URL:https://campestrecali.com/evento/a-las-doradas-en-la-pared/
LOCATION:Calle 5 con Carrera 100\, Cali\, Colombia
CATEGORIES:Destacado,Privado,Público
ATTACH;FMTTYPE=image/jpeg:https://campestrecali.com/wp-content/uploads/2019/12/Banner-ALAS-DORADAS.jpg
END:VEVENT
END:VCALENDAR